BEGIN:VCALENDAR
VERSION:2.0
PRODID:-//Cycling4Fun - ECPv5.0.3.1//NONSGML v1.0//EN
CALSCALE:GREGORIAN
METHOD:PUBLISH
X-WR-CALNAME:Cycling4Fun
X-ORIGINAL-URL:https://Cycling4Fun.com
X-WR-CALDESC:Events for Cycling4Fun
BEGIN:VTIMEZONE
TZID:UTC
BEGIN:STANDARD
TZOFFSETFROM:+0000
TZOFFSETTO:+0000
TZNAME:UTC
DTSTART:20230101T000000
END:STANDARD
END:VTIMEZONE
BEGIN:VEVENT
DTSTART;TZID=UTC:20230128T081500
DTEND;TZID=UTC:20230128T140000
DTSTAMP:20260419T134419
CREATED:20221108T224831Z
LAST-MODIFIED:20251106T023918Z
UID:2364-1674893700-1674914400@Cycling4Fun.com
SUMMARY:DUBLIN: Walnut Creek Loop (Iron Horse)
DESCRIPTION:NOTE: new starting point and slight route changes and distance – as of 1/20/2023. Correct/current information below. \nRide the Iron Horse Trail from Pleasanton to Walnut Creek area and return Via Danville Blvd — 31.8 mi\, 699 ft climbing. \nRide begins at a small Dublin BART Parking lot located at 5211 DeMarcus Blvd near its intersection with Campbell Lane. Suggest turning South off Dublin Blvd onto DeMarcus Blvd and traveling two blocks to the lot (FYI – North off Dublin Blvd the same street is named Sterling Street). \nMore information\, detailed map and GPS/Garmin download at \nhttps://ridewithgps.com/routes/41828109 \nIf you intend to ride\, please go to the Cycling4Fun meetup and click the attend button. Meetup is here:  Cycling4Fun (Hayward\, CA) | Meetup \nAny changes due to weather or other stuff will be posted on the Cycling4Fun.com website by 7:00am the day of the ride. Helmets required. Ride Director is Bob Carlson. \nLook for a vehicle in the parking area with an orange traffic cone on its roof. Arrive by 8:15 for an 8:30 start. \n  \n\n									   \n									   \n									   \n									   \n									   \n									   \n									
URL:https://Cycling4Fun.com/?tribe_events=pleasenton-danville-loop-iron-horse
LOCATION:BART Dublin/Pleasanton Parking Lot\, 5211 DeMarcus Blvd\, Dublin\, CA\, United States
CATEGORIES:rides not in use
END:VEVENT
END:VCALENDAR